BEGIN:VCALENDAR
VERSION:2.0
PRODID:-//Hale Education - ECPv6.6.4.2//NONSGML v1.0//EN
CALSCALE:GREGORIAN
METHOD:PUBLISH
X-ORIGINAL-URL:https://hale.education
X-WR-CALDESC:Events for Hale Education
REFRESH-INTERVAL;VALUE=DURATION:PT1H
X-Robots-Tag:noindex
X-PUBLISHED-TTL:PT1H
BEGIN:VTIMEZONE
TZID:America/New_York
BEGIN:DAYLIGHT
TZOFFSETFROM:-0500
TZOFFSETTO:-0400
TZNAME:EDT
DTSTART:20260308T070000
END:DAYLIGHT
BEGIN:STANDARD
TZOFFSETFROM:-0400
TZOFFSETTO:-0500
TZNAME:EST
DTSTART:20261101T060000
END:STANDARD
END:VTIMEZONE
BEGIN:VEVENT
DTSTART;TZID=America/New_York:20260423T090000
DTEND;TZID=America/New_York:20260423T100000
DTSTAMP:20260419T150957
CREATED:20260408T154914Z
LAST-MODIFIED:20260419T160210Z
UID:10001024-1776934800-1776938400@hale.education
SUMMARY:Summer Camp Tours at Hale
DESCRIPTION:Visit Hale Day Camp\, Hale MTB Camp\, Hale Adventure Camp\, and our  Youth Leadership Development programs.
URL:https://hale.education/event/summer-camp-tours-at-hale-9/
LOCATION:Hale Education\, Inc.\, 80 Carby Street\, Westwood\, MA\, 02090\, United States
CATEGORIES:Family Fun
ATTACH;FMTTYPE=image/jpeg:https://hale.education/wp-content/uploads/2026/04/cc5e8d544d56b3e28b2cc589cd92d1aa.jpg
END:VEVENT
BEGIN:VEVENT
DTSTART;TZID=America/New_York:20260423T120000
DTEND;TZID=America/New_York:20260423T130000
DTSTAMP:20260419T150957
CREATED:20260408T154915Z
LAST-MODIFIED:20260419T160210Z
UID:10001025-1776945600-1776949200@hale.education
SUMMARY:Summer Camp Tours at Hale
DESCRIPTION:Visit Hale Day Camp\, Hale MTB Camp\, Hale Adventure Camp\, and our  Youth Leadership Development programs.
URL:https://hale.education/event/summer-camp-tours-at-hale-10/
LOCATION:Hale Education\, Inc.\, 80 Carby Street\, Westwood\, MA\, 02090\, United States
CATEGORIES:Family Fun
ATTACH;FMTTYPE=image/jpeg:https://hale.education/wp-content/uploads/2026/04/cc5e8d544d56b3e28b2cc589cd92d1aa.jpg
END:VEVENT
BEGIN:VEVENT
DTSTART;TZID=America/New_York:20260423T170000
DTEND;TZID=America/New_York:20260423T180000
DTSTAMP:20260419T150957
CREATED:20260408T154925Z
LAST-MODIFIED:20260419T160210Z
UID:10001026-1776963600-1776967200@hale.education
SUMMARY:Summer Camp Tours at Hale
DESCRIPTION:Visit Hale Day Camp\, Hale MTB Camp\, Hale Adventure Camp\, and our  Youth Leadership Development programs.
URL:https://hale.education/event/summer-camp-tours-at-hale-11/
LOCATION:Hale Education\, Inc.\, 80 Carby Street\, Westwood\, MA\, 02090\, United States
CATEGORIES:Family Fun
ATTACH;FMTTYPE=image/jpeg:https://hale.education/wp-content/uploads/2026/04/cc5e8d544d56b3e28b2cc589cd92d1aa.jpg
END:VEVENT
BEGIN:VEVENT
DTSTART;TZID=America/New_York:20260423T180000
DTEND;TZID=America/New_York:20260423T190000
DTSTAMP:20260419T150957
CREATED:20260408T154925Z
LAST-MODIFIED:20260419T160210Z
UID:10001027-1776967200-1776970800@hale.education
SUMMARY:Summer Camp Tours at Hale
DESCRIPTION:Visit Hale Day Camp\, Hale MTB Camp\, Hale Adventure Camp\, and our  Youth Leadership Development programs.
URL:https://hale.education/event/summer-camp-tours-at-hale-12/
LOCATION:Hale Education\, Inc.\, 80 Carby Street\, Westwood\, MA\, 02090\, United States
CATEGORIES:Family Fun
ATTACH;FMTTYPE=image/jpeg:https://hale.education/wp-content/uploads/2026/04/cc5e8d544d56b3e28b2cc589cd92d1aa.jpg
END:VEVENT
BEGIN:VEVENT
DTSTART;TZID=America/New_York:20260425T090000
DTEND;TZID=America/New_York:20260425T120000
DTSTAMP:20260419T150957
CREATED:20260227T191155Z
LAST-MODIFIED:20260419T011818Z
UID:10001009-1777107600-1777118400@hale.education
SUMMARY:MTB Clinic—Intro to Mountain Biking (Adult)
DESCRIPTION:You may ride\, but do you practice? Adult group clinics for ages 15+ focus on technical skills\, drills\, and having fun!
URL:https://hale.education/event/mtb-clinic-intro-to-mountain-biking-adult/
LOCATION:Hale Education\, Inc.\, 80 Carby Street\, Westwood\, MA\, 02090\, United States
CATEGORIES:Mountain Biking
ATTACH;FMTTYPE=image/jpeg:https://hale.education/wp-content/uploads/2023/11/6fdeb455f6deabf2e12b7fbb76099fe9-1.jpg
END:VEVENT
BEGIN:VEVENT
DTSTART;TZID=America/New_York:20260425T090000
DTEND;TZID=America/New_York:20260425T120000
DTSTAMP:20260419T150957
CREATED:20260227T192640Z
LAST-MODIFIED:20260418T173247Z
UID:10001013-1777107600-1777118400@hale.education
SUMMARY:MTB Clinic—Intro to Jump (Adult)
DESCRIPTION:You may ride\, but do you practice? Adult group clinics for ages 15+ focus on technical skills\, drills\, and having fun!
URL:https://hale.education/event/mtb-clinic-intro-to-jump-adult-5/
LOCATION:Hale Education\, Inc.\, 80 Carby Street\, Westwood\, MA\, 02090\, United States
CATEGORIES:Mountain Biking
ATTACH;FMTTYPE=image/jpeg:https://hale.education/wp-content/uploads/2023/12/f9feb5dde56f680cb7f8c4be3c73a80f-1.jpg
END:VEVENT
BEGIN:VEVENT
DTSTART;TZID=America/New_York:20260425T130000
DTEND;TZID=America/New_York:20260425T160000
DTSTAMP:20260419T150957
CREATED:20260227T190200Z
LAST-MODIFIED:20260227T191740Z
UID:10001008-1777122000-1777132800@hale.education
SUMMARY:MTB Clinic—Advanced Jump (Adult)
DESCRIPTION:You may ride\, but do you practice? Adult group clinics for ages 15+ focus on technical skills\, drills\, and having fun!
URL:https://hale.education/event/mtb-clinic-advanced-jump-adult-5/
LOCATION:Hale Education\, Inc.\, 80 Carby Street\, Westwood\, MA\, 02090\, United States
CATEGORIES:Mountain Biking
ATTACH;FMTTYPE=image/jpeg:https://hale.education/wp-content/uploads/2023/12/34d40b5f4a9124519239a5b9afd42547.jpg
END:VEVENT
BEGIN:VEVENT
DTSTART;TZID=America/New_York:20260425T130000
DTEND;TZID=America/New_York:20260425T160000
DTSTAMP:20260419T150957
CREATED:20260227T191155Z
LAST-MODIFIED:20260419T011818Z
UID:10001010-1777122000-1777132800@hale.education
SUMMARY:MTB Clinic—Intro to Mountain Biking (Adult)
DESCRIPTION:You may ride\, but do you practice? Adult group clinics for ages 15+ focus on technical skills\, drills\, and having fun!
URL:https://hale.education/event/mtb-clinic-intro-to-mountain-biking-adult-2/
LOCATION:Hale Education\, Inc.\, 80 Carby Street\, Westwood\, MA\, 02090\, United States
CATEGORIES:Mountain Biking
ATTACH;FMTTYPE=image/jpeg:https://hale.education/wp-content/uploads/2023/11/6fdeb455f6deabf2e12b7fbb76099fe9-1.jpg
END:VEVENT
BEGIN:VEVENT
DTSTART;TZID=America/New_York:20260426T090000
DTEND;TZID=America/New_York:20260426T120000
DTSTAMP:20260419T150957
CREATED:20260227T191155Z
LAST-MODIFIED:20260419T011818Z
UID:10001011-1777194000-1777204800@hale.education
SUMMARY:MTB Clinic—Intro to Mountain Biking (Adult)
DESCRIPTION:You may ride\, but do you practice? Adult group clinics for ages 15+ focus on technical skills\, drills\, and having fun!
URL:https://hale.education/event/mtb-clinic-intro-to-mountain-biking-adult-3/
LOCATION:Hale Education\, Inc.\, 80 Carby Street\, Westwood\, MA\, 02090\, United States
CATEGORIES:Mountain Biking
ATTACH;FMTTYPE=image/jpeg:https://hale.education/wp-content/uploads/2023/11/6fdeb455f6deabf2e12b7fbb76099fe9-1.jpg
END:VEVENT
BEGIN:VEVENT
DTSTART;TZID=America/New_York:20260426T090000
DTEND;TZID=America/New_York:20260426T120000
DTSTAMP:20260419T150957
CREATED:20260227T192641Z
LAST-MODIFIED:20260418T173248Z
UID:10001014-1777194000-1777204800@hale.education
SUMMARY:MTB Clinic—Intro to Jump (Adult)
DESCRIPTION:You may ride\, but do you practice? Adult group clinics for ages 15+ focus on technical skills\, drills\, and having fun!
URL:https://hale.education/event/mtb-clinic-intro-to-jump-adult-6/
LOCATION:Hale Education\, Inc.\, 80 Carby Street\, Westwood\, MA\, 02090\, United States
CATEGORIES:Mountain Biking
ATTACH;FMTTYPE=image/jpeg:https://hale.education/wp-content/uploads/2023/12/f9feb5dde56f680cb7f8c4be3c73a80f-1.jpg
END:VEVENT
BEGIN:VEVENT
DTSTART;TZID=America/New_York:20260426T130000
DTEND;TZID=America/New_York:20260426T160000
DTSTAMP:20260419T150957
CREATED:20260227T190200Z
LAST-MODIFIED:20260419T143335Z
UID:10001007-1777208400-1777219200@hale.education
SUMMARY:MTB Clinic—Advanced Jump (Adult)
DESCRIPTION:You may ride\, but do you practice? Adult group clinics for ages 15+ focus on technical skills\, drills\, and having fun!
URL:https://hale.education/event/mtb-clinic-advanced-jump-adult-6/
LOCATION:Hale Education\, Inc.\, 80 Carby Street\, Westwood\, MA\, 02090\, United States
CATEGORIES:Mountain Biking
ATTACH;FMTTYPE=image/jpeg:https://hale.education/wp-content/uploads/2023/12/34d40b5f4a9124519239a5b9afd42547.jpg
END:VEVENT
BEGIN:VEVENT
DTSTART;TZID=America/New_York:20260426T130000
DTEND;TZID=America/New_York:20260426T160000
DTSTAMP:20260419T150957
CREATED:20260227T191156Z
LAST-MODIFIED:20260419T011819Z
UID:10001012-1777208400-1777219200@hale.education
SUMMARY:MTB Clinic—Intro to Mountain Biking (Adult)
DESCRIPTION:You may ride\, but do you practice? Adult group clinics for ages 15+ focus on technical skills\, drills\, and having fun!
URL:https://hale.education/event/mtb-clinic-intro-to-mountain-biking-adult-4/
LOCATION:Hale Education\, Inc.\, 80 Carby Street\, Westwood\, MA\, 02090\, United States
CATEGORIES:Mountain Biking
ATTACH;FMTTYPE=image/jpeg:https://hale.education/wp-content/uploads/2023/11/6fdeb455f6deabf2e12b7fbb76099fe9-1.jpg
END:VEVENT
BEGIN:VEVENT
DTSTART;TZID=America/New_York:20260430T090000
DTEND;TZID=America/New_York:20260430T100000
DTSTAMP:20260419T150957
CREATED:20260408T154925Z
LAST-MODIFIED:20260419T160211Z
UID:10001028-1777539600-1777543200@hale.education
SUMMARY:Summer Camp Tours at Hale
DESCRIPTION:Visit Hale Day Camp\, Hale MTB Camp\, Hale Adventure Camp\, and our  Youth Leadership Development programs.
URL:https://hale.education/event/summer-camp-tours-at-hale-13/
LOCATION:Hale Education\, Inc.\, 80 Carby Street\, Westwood\, MA\, 02090\, United States
CATEGORIES:Family Fun
ATTACH;FMTTYPE=image/jpeg:https://hale.education/wp-content/uploads/2026/04/cc5e8d544d56b3e28b2cc589cd92d1aa.jpg
END:VEVENT
BEGIN:VEVENT
DTSTART;TZID=America/New_York:20260430T120000
DTEND;TZID=America/New_York:20260430T130000
DTSTAMP:20260419T150957
CREATED:20260408T154925Z
LAST-MODIFIED:20260419T160211Z
UID:10001029-1777550400-1777554000@hale.education
SUMMARY:Summer Camp Tours at Hale
DESCRIPTION:Visit Hale Day Camp\, Hale MTB Camp\, Hale Adventure Camp\, and our  Youth Leadership Development programs.
URL:https://hale.education/event/summer-camp-tours-at-hale-14/
LOCATION:Hale Education\, Inc.\, 80 Carby Street\, Westwood\, MA\, 02090\, United States
CATEGORIES:Family Fun
ATTACH;FMTTYPE=image/jpeg:https://hale.education/wp-content/uploads/2026/04/cc5e8d544d56b3e28b2cc589cd92d1aa.jpg
END:VEVENT
BEGIN:VEVENT
DTSTART;TZID=America/New_York:20260430T170000
DTEND;TZID=America/New_York:20260430T180000
DTSTAMP:20260419T150957
CREATED:20260408T154925Z
LAST-MODIFIED:20260419T160211Z
UID:10001030-1777568400-1777572000@hale.education
SUMMARY:Summer Camp Tours at Hale
DESCRIPTION:Visit Hale Day Camp\, Hale MTB Camp\, Hale Adventure Camp\, and our  Youth Leadership Development programs.
URL:https://hale.education/event/summer-camp-tours-at-hale-15/
LOCATION:Hale Education\, Inc.\, 80 Carby Street\, Westwood\, MA\, 02090\, United States
CATEGORIES:Family Fun
ATTACH;FMTTYPE=image/jpeg:https://hale.education/wp-content/uploads/2026/04/cc5e8d544d56b3e28b2cc589cd92d1aa.jpg
END:VEVENT
BEGIN:VEVENT
DTSTART;TZID=America/New_York:20260430T180000
DTEND;TZID=America/New_York:20260430T190000
DTSTAMP:20260419T150957
CREATED:20260408T154926Z
LAST-MODIFIED:20260419T160211Z
UID:10001031-1777572000-1777575600@hale.education
SUMMARY:Summer Camp Tours at Hale
DESCRIPTION:Visit Hale Day Camp\, Hale MTB Camp\, Hale Adventure Camp\, and our  Youth Leadership Development programs.
URL:https://hale.education/event/summer-camp-tours-at-hale-16/
LOCATION:Hale Education\, Inc.\, 80 Carby Street\, Westwood\, MA\, 02090\, United States
CATEGORIES:Family Fun
ATTACH;FMTTYPE=image/jpeg:https://hale.education/wp-content/uploads/2026/04/cc5e8d544d56b3e28b2cc589cd92d1aa.jpg
END:VEVENT
BEGIN:VEVENT
DTSTART;TZID=America/New_York:20260501T083000
DTEND;TZID=America/New_York:20260503T170000
DTSTAMP:20260419T150957
CREATED:20260116T200451Z
LAST-MODIFIED:20260416T202007Z
UID:10001002-1777624200-1777827600@hale.education
SUMMARY:Everwild: Women’s MTB Day at Hale
DESCRIPTION:Advance Your Ride\, Build Your Community!\n\n\nEverwild\, presented by MetroWest Subaru\, creates a space for women of all skills and abilities to advance the sport and build community through wellness\, whether you’re a veteran rider or someone who has never been on a mountain bike. \nJoin us for an action-packed Friday afternoon into Saturday of mountain biking skill-building\, community\, and wellness. Local food vendors and craft brewers will fuel your day. Visit our vendor village featuring local brands\, gear\, and partners\, along with bike demos and rentals. \nPlease note that we require a name for each attendee.  All riders should be comfortable on bikes\, independently and without training wheels. Everwild is designed for mountain bikes\, with skill clinics focused on mountain biking. We don’t recommend gravel bikes or large e-bikes for this event. \nInclusivity: We are committed to creating a welcoming and non-judgmental environment. This event welcomes and respects all women\, inclusively defined — this includes trans women and those who are nonbinary\, gender non-conforming\, and any others who identify as women in ways that are significant to them. \nWhat to Expect\nEverwild is now a two-day experience! Get ready for: \n\nHigh-quality clinics: Focused skill-building sessions on Saturday morning and afternoon\, taught by experienced instructors with assistant support to ensure a low 1:12 instructor-to-rider ratio.\n\n\nVaried group rides: Explore local trails with guided\, skill-based rides led by local experts on Friday evening\, Saturday morning\, and Saturday afternoon.\n\n\nVibrant social events: Featuring food trucks\, local beers\, live music\, lawn games\, campfires\, and access to the vendor village!\n\n\nCommunity: Connect with vendors\, demo the latest gear\, and build your network with fellow riders.\n\nCamping (Optional): Camping is available on Friday and Saturday Nights. Choose to stay on-site at Hale with our available Tent\, Yurt\, or Van Camping options. \nBe among the first 75 to register and get this year’s custom event swag free! \n\n\nTicket Options \nChoose the pass that best fits your weekend plans. All event passes grant you access to the general event\, the vendor village\, and all social events. \n\nClinics\, Rides\, and Event Vibes Pass: This pass allows you to sign up for clinics (Saturday morning and afternoon) and group rides (Friday evening\, Saturday morning/afternoon). Please note that clinic signup is on a first-come\, first-served basis.\n\n\nGroup Rides and Event Vibes Pass: This pass also allows you to  sign up for group rides (Friday evening\, Saturday morning/afternoon)\, but clinics are NOT included.\n\nThe 2026 Everwild clinic and ride schedule will be available in February. At that time\, event attendees will be able to see the clinics and rides offered throughout the event. In March\, we will send out the sign-up forms. This gives you ample time to review what is offered\, connect with your riding besties\, and plan your weekend! \n\n\nOn-Site Camping Permits\n \nIf you’re traveling from a distance\, join us for the weekend at Hale! Campers can join us at 3 PM on Friday\, May 1\, and stay through 11 AM on Sunday\, May 3. \n\nTent Camping: Sites include firewood and conveniently located bathrooms.\nVan Camping: Dedicated lot for adventure vans with conveniently located bathroom access.\nYurt Camping: Book a bunk with your crew or stay with new friends in our yurts. Bathroom access is conveniently located. \n\nPlease note that there are no showers in the bathrooms. \n\n\nEvent Schedule Highlights\n*event schedule is subject to change* \n \n\n\n\nSupport MTB at Hale\nMountain bikers of all ages are drawn to Hale’s rugged\, varied terrain just miles from Boston’s city line\, and we’ve been eagerly expanding youth mountain biking program over the past five years. \nHale MTB Camp focuses on skill-building and ride time for an existing community of young mountain bikers. Youth MTB Club is growing that community through a fantastic team of volunteer coaches who coordinate recreational rides and opportunities to participate in races and events throughout New England. Intrepid Academy at Hale students also enjoy time on the trails as part of their semester at Hale. \nWe’re thrilled with our progress and are helping hundreds of riders advance\, but with your help\, we can do more. \nThank you for supporting MTB opportunities for youth by making your donation today. \nHale Education\, Inc. is a private nonprofit widely recognized for its flagship camps\, youth programs\, family and community activities\, school partnerships\, and professional development opportunities. It serves several thousand children and families from Greater Boston communities annually\, and invites visitors to enjoy its 1\,200 acres of forests\, ponds\, and meadows in Westwood and Dover\, Massachusetts. Hale’s programs and land management practices are the legacy of its founder\, Robert Sever Hale\, who encouraged people to patronize his property in ways that were “charitable and benevolent in nature…to provide education which will develop intelligent\, capable\, and responsible citizens. \nBy registering for Hale’s events and programs\, you consent to its privacy policy andmedia policy \n \nRefund Policy\nParticipants are eligible for refunds up to 30 days before the event\, and refunds are nonrefundable after that time. Ticketing platform fees (including Eventbrite\, BikeReg\, and others) are nonrefundable. For events with multiple instances\, transfers may be possible at least 1 business day before the event. Event registration fees may not be credited toward Hale’s programs. \n\n\nEverwild Site\n \nFor more information on skill levels\, clinics\, camping options\, and other FAQs\, visit our Everwild site here.
URL:https://hale.education/event/everwild-womens-mtb-day-at-hale-4/
LOCATION:Hale Education\, Inc.\, 80 Carby Street\, Westwood\, MA\, 02090\, United States
CATEGORIES:Mountain Biking
ATTACH;FMTTYPE=image/jpeg:https://hale.education/wp-content/uploads/2026/02/e184436f012eca876225c8c24d5b1522.jpg
END:VEVENT
BEGIN:VEVENT
DTSTART;TZID=America/New_York:20260517T080000
DTEND;TZID=America/New_York:20260517T130000
DTSTAMP:20260419T150957
CREATED:20260107T172550Z
LAST-MODIFIED:20260109T200833Z
UID:10001001-1779004800-1779022800@hale.education
SUMMARY:Final de Barro MTB Race
DESCRIPTION:Designed as an XC Olympic (XCO) format race\, the Final de Barro features a 4-mile course on some of Hale’s best trails. Racers of all ages and their families are welcome—who will have the fastest lap\, the kids or the adults? Fun and games will entertain spectators\, and proceeds benefit Hale’s youth programs. Park at Cat Rock. Registration is required. Please see the race’s BikeReg page for event logistics.
URL:https://hale.education/event/final-de-barro-mtb-race-2/
LOCATION:Hale Education\, Inc.\, 80 Carby Street\, Westwood\, MA\, 02090\, United States
CATEGORIES:Event,Family Fun,Mountain Biking
ATTACH;FMTTYPE=image/png:https://hale.education/wp-content/uploads/2023/12/FDB-Centered.png
END:VEVENT
BEGIN:VEVENT
DTSTART;TZID=America/New_York:20260618T170000
DTEND;TZID=America/New_York:20260618T200000
DTSTAMP:20260419T150957
CREATED:20260227T182023Z
LAST-MODIFIED:20260419T071737Z
UID:10001005-1781802000-1781812800@hale.education
SUMMARY:Summer Solstice Swim & S'mores
DESCRIPTION:Kick off summer with an open swim and s’mores by the fire. This ticketed event is free and open to the public.\n\n\nWhether you’re new to Hale or you’re kicking off another season with Hale Summer Camps\, Hale Outdoor Learning Adventures\, or Hale’s Family and Community Program\, we invite you to start your summer off with us at South Beach!  \nOpen swim with lifeguards will take place from 5:00–7:15 PM\, followed by a campfire and s’mores on the beach. We are offering a tour of Hale’s Family and Community Program sites at 6:00 PM. Hang out with old friends and meet new ones at this community event. All ages are welcome. When registering\, order one ticket per vehicle. The entrance for South Beach is available via Bruné Way\, opposite 576 Dover Road.  \n\n\nHale Education\, Inc. is a private nonprofit widely recognized for its flagship camps\, youth programs\, family and community activities\, school partnerships\, and professional development opportunities. It serves several thousand children and families from Greater Boston communities annually\, and invites visitors to enjoy its 1\,200 acres of forests\, ponds\, and meadows in Westwood and Dover\, Massachusetts. Hale’s programs and land management practices are the legacy of its founder\, Robert Sever Hale\, who encouraged people to patronize his property in ways that were “charitable and benevolent in nature…to provide education which will develop intelligent\, capable\, and responsible citizens. \nBy registering for Hale’s events and programs\, you consent to its privacy policy\, media policy\, and refund policies.
URL:https://hale.education/event/summer-solstice-swim-smores-4/
LOCATION:Hale Education\, Inc.\, 80 Carby Street\, Westwood\, MA\, 02090\, United States
CATEGORIES:Family Fun
ATTACH;FMTTYPE=image/jpeg:https://hale.education/wp-content/uploads/2026/02/37541aa19c73726fc6abe8200be64d75.jpg
END:VEVENT
BEGIN:VEVENT
DTSTART;TZID=America/New_York:20260628T103000
DTEND;TZID=America/New_York:20260628T123000
DTSTAMP:20260419T150957
CREATED:20260313T164733Z
LAST-MODIFIED:20260419T154705Z
UID:10001015-1782642600-1782649800@hale.education
SUMMARY:Mushroom Walk at Hale
DESCRIPTION:Join Nick Rajtar\, visiting mycologist from the University of Minnesota lab\, on a 2-hour walk around Hale looking for mushrooms.\n\n\nJoin us on a 2-hour walk around Hale to explore fungi. This event will be led by members of the Boston Mycological Club (BMC)’s ID committee. This year\, we will be joined by special guest Nick Rajtar\, visiting mycologist from the University of Minnesota lab.   \nThere are hundreds of thousands of fungi all around us. Some help trees thrive; others decompose organic materials and turn them into soil; some are destructive; and some are edible. Mushrooms appear as if by magic after a rain and often disappear as quickly. The BMC regularly searches for Fungi throughout MA\, and the walk leaders are very familiar with the types of mushrooms you may run across. \nAbout Hale Education\nHale Education\, Inc. is a private nonprofit widely recognized for its flagship camps\, youth programs\, family and community activities\, school partnerships\, and professional development opportunities. It serves several thousand children and families from Greater Boston communities annually\, and invites visitors to enjoy its 1\,200 acres of forests\, ponds\, and meadows in Westwood and Dover\, Massachusetts. Hale’s programs and land management practices are the legacy of its founder\, Robert Sever Hale\, who encouraged people to patronize his property in ways that were “charitable and benevolent in nature…to provide education which will develop intelligent\, capable\, and responsible citizens. \nBy registering for Hale’s events and programs\, you consent to its privacy policy\, media policy\, and refund policies.\,
URL:https://hale.education/event/mushroom-walk-at-hale-3/
LOCATION:Hale Education\, Inc.\, 80 Carby Street\, Westwood\, MA\, 02090\, United States
CATEGORIES:Family Fun
ATTACH;FMTTYPE=image/jpeg:https://hale.education/wp-content/uploads/2026/03/ab5f6f8e400636deed70b08399012a96-1.jpg
END:VEVENT
END:VCALENDAR