BEGIN:VCALENDAR
VERSION:2.0
PRODID:-//Hale Education - ECPv6.6.4.2//NONSGML v1.0//EN
CALSCALE:GREGORIAN
METHOD:PUBLISH
X-WR-CALNAME:Hale Education
X-ORIGINAL-URL:https://hale.education
X-WR-CALDESC:Events for Hale Education
REFRESH-INTERVAL;VALUE=DURATION:PT1H
X-Robots-Tag:noindex
X-PUBLISHED-TTL:PT1H
BEGIN:VTIMEZONE
TZID:America/New_York
BEGIN:DAYLIGHT
TZOFFSETFROM:-0500
TZOFFSETTO:-0400
TZNAME:EDT
DTSTART:20240310T070000
END:DAYLIGHT
BEGIN:STANDARD
TZOFFSETFROM:-0400
TZOFFSETTO:-0500
TZNAME:EST
DTSTART:20241103T060000
END:STANDARD
BEGIN:DAYLIGHT
TZOFFSETFROM:-0500
TZOFFSETTO:-0400
TZNAME:EDT
DTSTART:20250309T070000
END:DAYLIGHT
BEGIN:STANDARD
TZOFFSETFROM:-0400
TZOFFSETTO:-0500
TZNAME:EST
DTSTART:20251102T060000
END:STANDARD
END:VTIMEZONE
BEGIN:VEVENT
DTSTART;TZID=America/New_York:20250607T100000
DTEND;TZID=America/New_York:20250607T120000
DTSTAMP:20260419T171923
CREATED:20250103T151134Z
LAST-MODIFIED:20250414T152952Z
UID:10000859-1749290400-1749297600@hale.education
SUMMARY:Westwood Community Trails Monthly Hike
DESCRIPTION:Westwood Community Trails invites you to explore the town’s trails and learn more about their importance to the community. Free monthly guided hikes last about two hours\, vary in distance and topography\, and explore a number of areas at Hale and beyond. There’s no need to RSVP; just show up! To learn more\, email westwoodtrails@googlegroups.com. \nWCT is sponsored by Westwood’s Department of Public Works and its Recreation Department\, guided by its Pedestrian and Bicycle Advisory Committee\, and administered by Hale Education. \n  \nThis Month’s Hike\nSat. June 7— Hike Powissett Peak on this 3-4-mile hike over mixed terrain. Meet at the South Entrance Lot at 635 Dover Road. \n\n\nUpcoming Hikes\nSat. July 5—Discover Martha Jones on this 1-2-mile hike over mostly flat terrain. Park at Martha Jones School Lot in Westwood. \nSat. Aug. 2—Explore Powisset Farm on this 2-3-mile hike over mixed terrain. Meet at 39 Powisset Street in Dover.
URL:https://hale.education/event/westwood-community-trails-monthly-hike-14/
LOCATION:Hale Education\, Inc. (South Entrance)\, Bruné Way (573 Dover Road)\, Westwood\, MA\, 02090\, United States
CATEGORIES:Event,Family Fun,Westwood Community Trails
ATTACH;FMTTYPE=image/jpeg:https://hale.education/wp-content/uploads/2023/12/Nov-2023-WCT-scaled.jpg
END:VEVENT
BEGIN:VEVENT
DTSTART;TZID=America/New_York:20250405T100000
DTEND;TZID=America/New_York:20250405T120000
DTSTAMP:20260419T171923
CREATED:20250103T150521Z
LAST-MODIFIED:20250306T155217Z
UID:10000855-1743847200-1743854400@hale.education
SUMMARY:Westwood Community Trails Monthly Hike
DESCRIPTION:Westwood Community Trails invites you to explore the town’s trails and learn more about their importance to the community. Free monthly guided hikes last about two hours\, vary in distance and topography\, and explore a number of areas at Hale and beyond. There’s no need to RSVP; just show up! To learn more\, email westwoodtrails@googlegroups.com. \nWCT is sponsored by Westwood’s Department of Public Works and its Recreation Department\, guided by its Pedestrian and Bicycle Safety Committee\, and administered by Hale Education. \n  \nThis Month’s Hike\nSat. Apr 5— Discover the Oak Hill area on this 3-4-mile hike over mixed terrain. Meet at the South Entrance Lot at 635 Dover Road. \n\n\nUpcoming Hikes\nSat. Apr 19— Enjoy Currier Reservation on this 1-2-mile hike over mostly flat terrain. Meet at Downey Street in Westwood. \nSat. May 3— Explore Dedham Forest on this 3-4-mile hike over mostly flat terrain. Park at 960 Washington Street in Westwood. \nSat. June 7— Hike Powissett Peak on this 3-4-mile hike over mixed terrain. Meet at the South Entrance Lot at 635 Dover Road. \nSat. July 5—Discover Martha Jones on this 1-2-mile hike over mostly flat terrain. Park at Martha Jones School Lot in Westwood. \nSat. Aug. 2—Explore Powisset Farm on this 2-3-mile hike over mixed terrain. Meet at 39 Powisset Street in Dover.
URL:https://hale.education/event/westwood-community-trails-monthly-hike-11/
LOCATION:Hale Education\, Inc. (South Entrance)\, Bruné Way (573 Dover Road)\, Westwood\, MA\, 02090\, United States
CATEGORIES:Event,Family Fun,Westwood Community Trails
ATTACH;FMTTYPE=image/jpeg:https://hale.education/wp-content/uploads/2023/12/Nov-2023-WCT-scaled.jpg
END:VEVENT
BEGIN:VEVENT
DTSTART;TZID=America/New_York:20240621T090000
DTEND;TZID=America/New_York:20240621T150000
DTSTAMP:20260419T171923
CREATED:20230928T191149Z
LAST-MODIFIED:20230928T191149Z
UID:10000710-1718960400-1718982000@hale.education
SUMMARY:Trailbreakers 2024
DESCRIPTION:8-12 year olds eager to hit the trails start and end their days at South Beach\, but learn about plants and wildlife as they hike throughout our acres of adventure. Every day includes opportunities to focus on building outdoor skills\, as well as time to swim and enjoy Noanet Pond.
URL:https://hale.education/event/trailbreakers-2024-2024-06-20/
LOCATION:Hale Education\, Inc. (South Entrance)\, Bruné Way (573 Dover Road)\, Westwood\, MA\, 02090\, United States
END:VEVENT
BEGIN:VEVENT
DTSTART;TZID=America/New_York:20240621T090000
DTEND;TZID=America/New_York:20240621T150000
DTSTAMP:20260419T171923
CREATED:20230928T191149Z
LAST-MODIFIED:20230928T191149Z
UID:10000711-1718960400-1718982000@hale.education
SUMMARY:Trailbreakers 2024
DESCRIPTION:8-12 year olds eager to hit the trails start and end their days at South Beach\, but learn about plants and wildlife as they hike throughout our acres of adventure. Every day includes opportunities to focus on building outdoor skills\, as well as time to swim and enjoy Noanet Pond.
URL:https://hale.education/event/trailbreakers-2024-2024-06-21/
LOCATION:Hale Education\, Inc. (South Entrance)\, Bruné Way (573 Dover Road)\, Westwood\, MA\, 02090\, United States
END:VEVENT
BEGIN:VEVENT
DTSTART;TZID=America/New_York:20240621T084500
DTEND;TZID=America/New_York:20240621T154500
DTSTAMP:20260419T171923
CREATED:20230928T191146Z
LAST-MODIFIED:20230928T191146Z
UID:10000722-1718959500-1718984700@hale.education
SUMMARY:Outdoor Explorers 2024
DESCRIPTION:6-13 year olds kick off summer in style! At South Beach\, kids swim at one of Hale’s premier waterfronts that includes access to modern bathrooms and changing rooms. Staff facilitate games on the field\, help campers navigate new trails\, and encourage development of friendships that continue at camp.
URL:https://hale.education/event/outdoor-explorers-2024-2024-06-18/
LOCATION:Hale Education\, Inc. (South Entrance)\, Bruné Way (573 Dover Road)\, Westwood\, MA\, 02090\, United States
END:VEVENT
BEGIN:VEVENT
DTSTART;TZID=America/New_York:20240621T084500
DTEND;TZID=America/New_York:20240621T154500
DTSTAMP:20260419T171923
CREATED:20230928T191146Z
LAST-MODIFIED:20230928T191146Z
UID:10000725-1718959500-1718984700@hale.education
SUMMARY:Outdoor Explorers 2024
DESCRIPTION:6-13 year olds kick off summer in style! At South Beach\, kids swim at one of Hale’s premier waterfronts that includes access to modern bathrooms and changing rooms. Staff facilitate games on the field\, help campers navigate new trails\, and encourage development of friendships that continue at camp.
URL:https://hale.education/event/outdoor-explorers-2024-2024-06-19/
LOCATION:Hale Education\, Inc. (South Entrance)\, Bruné Way (573 Dover Road)\, Westwood\, MA\, 02090\, United States
END:VEVENT
BEGIN:VEVENT
DTSTART;TZID=America/New_York:20240621T084500
DTEND;TZID=America/New_York:20240621T154500
DTSTAMP:20260419T171923
CREATED:20230928T191146Z
LAST-MODIFIED:20230928T191146Z
UID:10000727-1718959500-1718984700@hale.education
SUMMARY:Outdoor Explorers 2024
DESCRIPTION:6-13 year olds kick off summer in style! At South Beach\, kids swim at one of Hale’s premier waterfronts that includes access to modern bathrooms and changing rooms. Staff facilitate games on the field\, help campers navigate new trails\, and encourage development of friendships that continue at camp.
URL:https://hale.education/event/outdoor-explorers-2024-2024-06-20/
LOCATION:Hale Education\, Inc. (South Entrance)\, Bruné Way (573 Dover Road)\, Westwood\, MA\, 02090\, United States
END:VEVENT
BEGIN:VEVENT
DTSTART;TZID=America/New_York:20240621T084500
DTEND;TZID=America/New_York:20240621T154500
DTSTAMP:20260419T171923
CREATED:20230928T191146Z
LAST-MODIFIED:20230928T191146Z
UID:10000728-1718959500-1718984700@hale.education
SUMMARY:Outdoor Explorers 2024
DESCRIPTION:6-13 year olds kick off summer in style! At South Beach\, kids swim at one of Hale’s premier waterfronts that includes access to modern bathrooms and changing rooms. Staff facilitate games on the field\, help campers navigate new trails\, and encourage development of friendships that continue at camp.
URL:https://hale.education/event/outdoor-explorers-2024-2024-06-21/
LOCATION:Hale Education\, Inc. (South Entrance)\, Bruné Way (573 Dover Road)\, Westwood\, MA\, 02090\, United States
END:VEVENT
BEGIN:VEVENT
DTSTART;TZID=America/New_York:20240620T090000
DTEND;TZID=America/New_York:20240620T150000
DTSTAMP:20260419T171923
CREATED:20230928T191149Z
LAST-MODIFIED:20230928T191149Z
UID:10000709-1718874000-1718895600@hale.education
SUMMARY:Trailbreakers 2024
DESCRIPTION:8-12 year olds eager to hit the trails start and end their days at South Beach\, but learn about plants and wildlife as they hike throughout our acres of adventure. Every day includes opportunities to focus on building outdoor skills\, as well as time to swim and enjoy Noanet Pond.
URL:https://hale.education/event/trailbreakers-2024-2024-06-20/
LOCATION:Hale Education\, Inc. (South Entrance)\, Bruné Way (573 Dover Road)\, Westwood\, MA\, 02090\, United States
END:VEVENT
BEGIN:VEVENT
DTSTART;TZID=America/New_York:20240620T084500
DTEND;TZID=America/New_York:20240620T154500
DTSTAMP:20260419T171923
CREATED:20230928T191146Z
LAST-MODIFIED:20230928T191146Z
UID:10000721-1718873100-1718898300@hale.education
SUMMARY:Outdoor Explorers 2024
DESCRIPTION:6-13 year olds kick off summer in style! At South Beach\, kids swim at one of Hale’s premier waterfronts that includes access to modern bathrooms and changing rooms. Staff facilitate games on the field\, help campers navigate new trails\, and encourage development of friendships that continue at camp.
URL:https://hale.education/event/outdoor-explorers-2024-2024-06-18/
LOCATION:Hale Education\, Inc. (South Entrance)\, Bruné Way (573 Dover Road)\, Westwood\, MA\, 02090\, United States
END:VEVENT
BEGIN:VEVENT
DTSTART;TZID=America/New_York:20240620T084500
DTEND;TZID=America/New_York:20240620T154500
DTSTAMP:20260419T171923
CREATED:20230928T191146Z
LAST-MODIFIED:20230928T191146Z
UID:10000724-1718873100-1718898300@hale.education
SUMMARY:Outdoor Explorers 2024
DESCRIPTION:6-13 year olds kick off summer in style! At South Beach\, kids swim at one of Hale’s premier waterfronts that includes access to modern bathrooms and changing rooms. Staff facilitate games on the field\, help campers navigate new trails\, and encourage development of friendships that continue at camp.
URL:https://hale.education/event/outdoor-explorers-2024-2024-06-19/
LOCATION:Hale Education\, Inc. (South Entrance)\, Bruné Way (573 Dover Road)\, Westwood\, MA\, 02090\, United States
END:VEVENT
BEGIN:VEVENT
DTSTART;TZID=America/New_York:20240620T084500
DTEND;TZID=America/New_York:20240620T154500
DTSTAMP:20260419T171923
CREATED:20230928T191146Z
LAST-MODIFIED:20230928T191146Z
UID:10000726-1718873100-1718898300@hale.education
SUMMARY:Outdoor Explorers 2024
DESCRIPTION:6-13 year olds kick off summer in style! At South Beach\, kids swim at one of Hale’s premier waterfronts that includes access to modern bathrooms and changing rooms. Staff facilitate games on the field\, help campers navigate new trails\, and encourage development of friendships that continue at camp.
URL:https://hale.education/event/outdoor-explorers-2024-2024-06-20/
LOCATION:Hale Education\, Inc. (South Entrance)\, Bruné Way (573 Dover Road)\, Westwood\, MA\, 02090\, United States
END:VEVENT
BEGIN:VEVENT
DTSTART;TZID=America/New_York:20240619T084500
DTEND;TZID=America/New_York:20240619T154500
DTSTAMP:20260419T171923
CREATED:20230928T191146Z
LAST-MODIFIED:20230928T191146Z
UID:10000720-1718786700-1718811900@hale.education
SUMMARY:Outdoor Explorers 2024
DESCRIPTION:6-13 year olds kick off summer in style! At South Beach\, kids swim at one of Hale’s premier waterfronts that includes access to modern bathrooms and changing rooms. Staff facilitate games on the field\, help campers navigate new trails\, and encourage development of friendships that continue at camp.
URL:https://hale.education/event/outdoor-explorers-2024-2024-06-18/
LOCATION:Hale Education\, Inc. (South Entrance)\, Bruné Way (573 Dover Road)\, Westwood\, MA\, 02090\, United States
END:VEVENT
BEGIN:VEVENT
DTSTART;TZID=America/New_York:20240619T084500
DTEND;TZID=America/New_York:20240619T154500
DTSTAMP:20260419T171923
CREATED:20230928T191146Z
LAST-MODIFIED:20230928T191146Z
UID:10000723-1718786700-1718811900@hale.education
SUMMARY:Outdoor Explorers 2024
DESCRIPTION:6-13 year olds kick off summer in style! At South Beach\, kids swim at one of Hale’s premier waterfronts that includes access to modern bathrooms and changing rooms. Staff facilitate games on the field\, help campers navigate new trails\, and encourage development of friendships that continue at camp.
URL:https://hale.education/event/outdoor-explorers-2024-2024-06-19/
LOCATION:Hale Education\, Inc. (South Entrance)\, Bruné Way (573 Dover Road)\, Westwood\, MA\, 02090\, United States
END:VEVENT
BEGIN:VEVENT
DTSTART;TZID=America/New_York:20240618T084500
DTEND;TZID=America/New_York:20240618T154500
DTSTAMP:20260419T171923
CREATED:20230928T191146Z
LAST-MODIFIED:20230928T191146Z
UID:10000719-1718700300-1718725500@hale.education
SUMMARY:Outdoor Explorers 2024
DESCRIPTION:6-13 year olds kick off summer in style! At South Beach\, kids swim at one of Hale’s premier waterfronts that includes access to modern bathrooms and changing rooms. Staff facilitate games on the field\, help campers navigate new trails\, and encourage development of friendships that continue at camp.
URL:https://hale.education/event/outdoor-explorers-2024-2024-06-18/
LOCATION:Hale Education\, Inc. (South Entrance)\, Bruné Way (573 Dover Road)\, Westwood\, MA\, 02090\, United States
END:VEVENT
END:VCALENDAR